Package: SMAD Version: 1.23.0 Command: /home/biocbuild/R/R/bin/R CMD check --install=check:SMAD.install-out.txt --library=/home/biocbuild/R/R/site-library --no-vignettes --timings SMAD_1.23.0.tar.gz StartedAt: 2025-01-28 15:27:18 -0000 (Tue, 28 Jan 2025) EndedAt: 2025-01-28 15:28:20 -0000 (Tue, 28 Jan 2025) EllapsedTime: 62.1 seconds RetCode: 0 Status: WARNINGS CheckDir: SMAD.Rcheck Warnings: 4