Package: SMAD Version: 1.23.0 Command: /home/biocbuild/R/R/bin/R CMD INSTALL SMAD StartedAt: 2025-01-29 19:34:25 -0000 (Wed, 29 Jan 2025) EndedAt: 2025-01-29 19:34:58 -0000 (Wed, 29 Jan 2025) EllapsedTime: 32.4 seconds RetCode: 0 Status: OK