Package: SMAD Version: 1.23.0 Command: rm -rf SMAD.buildbin-libdir && mkdir SMAD.buildbin-libdir && /Users/biocbuild/BBS/utils/build-universal.sh SMAD_1.23.0.tar.gz /Library/Frameworks/R.framework/Resources/bin/R SMAD.buildbin-libdir StartedAt: 2025-02-05 01:03:15 -0500 (Wed, 05 Feb 2025) EndedAt: 2025-02-05 01:03:35 -0500 (Wed, 05 Feb 2025) EllapsedTime: 19.7 seconds RetCode: 0 Status: OK PackageFile: SMAD_1.23.0.tgz PackageFileSize: 468.4 KiB