Package: SMAD Version: 1.23.0 Command: /Library/Frameworks/R.framework/Resources/bin/R CMD check --install=check:SMAD.install-out.txt --library=/Library/Frameworks/R.framework/Resources/library --no-vignettes --timings SMAD_1.23.0.tar.gz StartedAt: 2025-02-04 23:23:32 -0500 (Tue, 04 Feb 2025) EndedAt: 2025-02-04 23:24:37 -0500 (Tue, 04 Feb 2025) EllapsedTime: 64.2 seconds RetCode: 0 Status: OK CheckDir: SMAD.Rcheck Warnings: 0