Package: SMAD Version: 1.23.0 Command: /home/biocbuild/bbs-3.21-bioc/R/bin/R CMD build --keep-empty-dirs --no-resave-data SMAD StartedAt: 2025-02-03 19:28:33 -0500 (Mon, 03 Feb 2025) EndedAt: 2025-02-03 19:28:53 -0500 (Mon, 03 Feb 2025) EllapsedTime: 20.0 seconds RetCode: 0 Status: OK PackageFile: SMAD_1.23.0.tar.gz PackageFileSize: 438 KiB