Package: SMAD Version: 1.23.0 Command: /home/biocbuild/bbs-3.21-bioc/R/bin/R CMD check --install=check:SMAD.install-out.txt --library=/home/biocbuild/bbs-3.21-bioc/R/site-library --timings SMAD_1.23.0.tar.gz StartedAt: 2025-02-10 02:46:17 -0500 (Mon, 10 Feb 2025) EndedAt: 2025-02-10 02:47:13 -0500 (Mon, 10 Feb 2025) EllapsedTime: 56.1 seconds RetCode: 0 Status: OK CheckDir: SMAD.Rcheck Warnings: 0