Package: SMAD Version: 1.23.0 Command: chmod a+r SMAD -R && E:\biocbuild\bbs-3.21-bioc\R\bin\R.exe CMD build --keep-empty-dirs --no-resave-data SMAD StartedAt: 2025-02-09 21:45:02 -0500 (Sun, 09 Feb 2025) EndedAt: 2025-02-09 21:45:39 -0500 (Sun, 09 Feb 2025) EllapsedTime: 37.4 seconds RetCode: 0 Status: OK PackageFile: SMAD_1.23.0.tar.gz PackageFileSize: 377.1 KiB