Package: SMAD Version: 1.23.0 Command: E:\biocbuild\bbs-3.21-bioc\R\bin\R.exe CMD INSTALL SMAD StartedAt: 2025-02-09 15:26:49 -0500 (Sun, 09 Feb 2025) EndedAt: 2025-02-09 15:27:10 -0500 (Sun, 09 Feb 2025) EllapsedTime: 20.9 seconds RetCode: 0 Status: OK