Package: SMITE Version: 1.35.0 Command: /home/biocbuild/R/R/bin/R CMD INSTALL SMITE StartedAt: 2025-01-29 20:06:55 -0000 (Wed, 29 Jan 2025) EndedAt: 2025-01-29 20:07:58 -0000 (Wed, 29 Jan 2025) EllapsedTime: 62.4 seconds RetCode: 0 Status: OK