Package: SMITE Version: 1.35.0 Command: /home/biocbuild/bbs-3.21-bioc/R/bin/R CMD build --keep-empty-dirs --no-resave-data SMITE StartedAt: 2025-02-09 19:20:04 -0500 (Sun, 09 Feb 2025) EndedAt: 2025-02-09 19:21:15 -0500 (Sun, 09 Feb 2025) EllapsedTime: 71.1 seconds RetCode: 0 Status: OK PackageFile: SMITE_1.35.0.tar.gz PackageFileSize: 3.088 MiB