Package: SMITE Version: 1.35.0 Command: /home/biocbuild/bbs-3.21-bioc/R/bin/R CMD INSTALL SMITE StartedAt: 2025-02-09 15:42:25 -0500 (Sun, 09 Feb 2025) EndedAt: 2025-02-09 15:43:11 -0500 (Sun, 09 Feb 2025) EllapsedTime: 46.6 seconds RetCode: 0 Status: OK