Package: SNAGEE Version: 1.47.0 Command: rm -rf SNAGEE.buildbin-libdir && mkdir SNAGEE.buildbin-libdir && /Users/biocbuild/BBS/utils/build-universal.sh SNAGEE_1.47.0.tar.gz /Library/Frameworks/R.framework/Resources/bin/R SNAGEE.buildbin-libdir StartedAt: 2025-02-09 22:31:38 -0500 (Sun, 09 Feb 2025) EndedAt: 2025-02-09 22:31:40 -0500 (Sun, 09 Feb 2025) EllapsedTime: 2.0 seconds RetCode: 0 Status: OK PackageFile: SNAGEE_1.47.0.tgz PackageFileSize: 187.4 KiB