Package: SNAGEE Version: 1.47.0 Command: /Library/Frameworks/R.framework/Resources/bin/R CMD check --install=check:SNAGEE.install-out.txt --library=/Library/Frameworks/R.framework/Resources/library --no-vignettes --timings SNAGEE_1.47.0.tar.gz StartedAt: 2025-02-12 21:32:02 -0500 (Wed, 12 Feb 2025) EndedAt: 2025-02-12 21:32:18 -0500 (Wed, 12 Feb 2025) EllapsedTime: 15.2 seconds RetCode: 0 Status: OK CheckDir: SNAGEE.Rcheck Warnings: 0