Package: SNAGEE Version: 1.47.0 Command: /home/biocbuild/R/R/bin/R CMD INSTALL SNAGEE StartedAt: 2025-01-29 19:29:41 -0000 (Wed, 29 Jan 2025) EndedAt: 2025-01-29 19:29:50 -0000 (Wed, 29 Jan 2025) EllapsedTime: 9.1 seconds RetCode: 0 Status: OK