Package: SNAGEE Version: 1.47.0 Command: /Library/Frameworks/R.framework/Resources/bin/R CMD build --keep-empty-dirs --no-resave-data SNAGEE StartedAt: 2025-02-04 18:22:37 -0500 (Tue, 04 Feb 2025) EndedAt: 2025-02-04 18:23:15 -0500 (Tue, 04 Feb 2025) EllapsedTime: 37.7 seconds RetCode: 0 Status: OK PackageFile: SNAGEE_1.47.0.tar.gz PackageFileSize: 169.5 KiB