Package: SNAGEE Version: 1.47.0 Command: /home/biocbuild/bbs-3.21-bioc/R/bin/R CMD build --keep-empty-dirs --no-resave-data SNAGEE StartedAt: 2025-02-09 19:20:31 -0500 (Sun, 09 Feb 2025) EndedAt: 2025-02-09 19:21:00 -0500 (Sun, 09 Feb 2025) EllapsedTime: 29.0 seconds RetCode: 0 Status: OK PackageFile: SNAGEE_1.47.0.tar.gz PackageFileSize: 169.5 KiB