Package: SNAGEE Version: 1.47.0 Command: /home/biocbuild/bbs-3.21-bioc/R/bin/R CMD check --install=check:SNAGEE.install-out.txt --library=/home/biocbuild/bbs-3.21-bioc/R/site-library --timings SNAGEE_1.47.0.tar.gz StartedAt: 2025-02-13 02:47:38 -0500 (Thu, 13 Feb 2025) EndedAt: 2025-02-13 02:48:40 -0500 (Thu, 13 Feb 2025) EllapsedTime: 62.1 seconds RetCode: 0 Status: OK CheckDir: SNAGEE.Rcheck Warnings: 0