Package: SNAGEE Version: 1.47.0 Command: rm -rf SNAGEE.buildbin-libdir && mkdir SNAGEE.buildbin-libdir && E:\biocbuild\bbs-3.21-bioc\R\bin\R.exe CMD INSTALL --build --library=SNAGEE.buildbin-libdir SNAGEE_1.47.0.tar.gz StartedAt: 2025-02-13 08:56:03 -0500 (Thu, 13 Feb 2025) EndedAt: 2025-02-13 08:56:09 -0500 (Thu, 13 Feb 2025) EllapsedTime: 6.2 seconds RetCode: 0 Status: OK PackageFile: SNAGEE_1.47.0.zip PackageFileSize: 92.8 KiB