Package: SNAGEE Version: 1.47.0 Command: chmod a+r SNAGEE -R && E:\biocbuild\bbs-3.21-bioc\R\bin\R.exe CMD build --keep-empty-dirs --no-resave-data SNAGEE StartedAt: 2025-02-09 21:45:35 -0500 (Sun, 09 Feb 2025) EndedAt: 2025-02-09 21:46:23 -0500 (Sun, 09 Feb 2025) EllapsedTime: 48.3 seconds RetCode: 0 Status: OK PackageFile: SNAGEE_1.47.0.tar.gz PackageFileSize: 72.51 KiB