Package: SNAGEE Version: 1.47.0 Command: E:\biocbuild\bbs-3.21-bioc\R\bin\R.exe CMD check --no-multiarch --install=check:SNAGEE.install-out.txt --library=E:\biocbuild\bbs-3.21-bioc\R\library --no-vignettes --timings SNAGEE_1.47.0.tar.gz StartedAt: 2025-02-10 05:36:09 -0500 (Mon, 10 Feb 2025) EndedAt: 2025-02-10 05:37:04 -0500 (Mon, 10 Feb 2025) EllapsedTime: 55.3 seconds RetCode: 0 Status: OK CheckDir: SNAGEE.Rcheck Warnings: 0