Package: SNPRelate Version: 1.41.0 Command: rm -rf SNPRelate.buildbin-libdir && mkdir SNPRelate.buildbin-libdir && /Users/biocbuild/BBS/utils/build-universal.sh SNPRelate_1.41.0.tar.gz /Library/Frameworks/R.framework/Resources/bin/R SNPRelate.buildbin-libdir StartedAt: 2025-02-09 22:31:41 -0500 (Sun, 09 Feb 2025) EndedAt: 2025-02-09 22:31:53 -0500 (Sun, 09 Feb 2025) EllapsedTime: 11.3 seconds RetCode: 0 Status: OK PackageFile: SNPRelate_1.41.0.tgz PackageFileSize: 3.788 MiB