Package: SNPRelate Version: 1.41.0 Command: /Library/Frameworks/R.framework/Resources/bin/R CMD check --install=check:SNPRelate.install-out.txt --library=/Library/Frameworks/R.framework/Resources/library --no-vignettes --timings SNPRelate_1.41.0.tar.gz StartedAt: 2025-02-09 21:27:41 -0500 (Sun, 09 Feb 2025) EndedAt: 2025-02-09 21:28:38 -0500 (Sun, 09 Feb 2025) EllapsedTime: 56.7 seconds RetCode: 0 Status: OK CheckDir: SNPRelate.Rcheck Warnings: 0