Package: SNPRelate Version: 1.41.0 Command: /Library/Frameworks/R.framework/Resources/bin/R CMD INSTALL SNPRelate StartedAt: 2025-02-03 15:37:09 -0500 (Mon, 03 Feb 2025) EndedAt: 2025-02-03 15:37:17 -0500 (Mon, 03 Feb 2025) EllapsedTime: 8.4 seconds RetCode: 0 Status: OK