Package: SNPRelate Version: 1.41.0 Command: /home/biocbuild/R/R/bin/R CMD build --keep-empty-dirs --no-resave-data SNPRelate StartedAt: 2025-01-29 02:28:21 -0000 (Wed, 29 Jan 2025) EndedAt: 2025-01-29 02:29:49 -0000 (Wed, 29 Jan 2025) EllapsedTime: 88.1 seconds RetCode: 0 Status: OK PackageFile: SNPRelate_1.41.0.tar.gz PackageFileSize: 2.194 MiB