Package: SNPRelate Version: 1.41.0 Command: /Library/Frameworks/R.framework/Resources/bin/R CMD check --install=check:SNPRelate.install-out.txt --library=/Library/Frameworks/R.framework/Resources/library --no-vignettes --timings SNPRelate_1.41.0.tar.gz StartedAt: 2025-02-03 23:27:13 -0500 (Mon, 03 Feb 2025) EndedAt: 2025-02-03 23:29:16 -0500 (Mon, 03 Feb 2025) EllapsedTime: 123.8 seconds RetCode: 0 Status: OK CheckDir: SNPRelate.Rcheck Warnings: 0