Package: SNPRelate Version: 1.41.0 Command: /home/biocbuild/bbs-3.21-bioc/R/bin/R CMD INSTALL SNPRelate StartedAt: 2025-02-09 15:07:16 -0500 (Sun, 09 Feb 2025) EndedAt: 2025-02-09 15:08:01 -0500 (Sun, 09 Feb 2025) EllapsedTime: 44.6 seconds RetCode: 0 Status: OK