Package: SNPRelate Version: 1.41.0 Command: chmod a+r SNPRelate -R && E:\biocbuild\bbs-3.21-bioc\R\bin\R.exe CMD build --keep-empty-dirs --no-resave-data SNPRelate StartedAt: 2025-02-09 21:46:00 -0500 (Sun, 09 Feb 2025) EndedAt: 2025-02-09 21:48:07 -0500 (Sun, 09 Feb 2025) EllapsedTime: 126.9 seconds RetCode: 0 Status: OK PackageFile: SNPRelate_1.41.0.tar.gz PackageFileSize: 1.914 MiB