Package: SNPRelate Version: 1.41.0 Command: E:\biocbuild\bbs-3.21-bioc\R\bin\R.exe CMD INSTALL SNPRelate StartedAt: 2025-02-03 15:36:08 -0500 (Mon, 03 Feb 2025) EndedAt: 2025-02-03 15:37:50 -0500 (Mon, 03 Feb 2025) EllapsedTime: 102.6 seconds RetCode: 0 Status: OK