Package: SNPediaR Version: 1.33.0 Command: /home/biocbuild/R/R/bin/R CMD build --keep-empty-dirs --no-resave-data SNPediaR StartedAt: 2025-01-29 02:28:07 -0000 (Wed, 29 Jan 2025) EndedAt: 2025-01-29 02:28:21 -0000 (Wed, 29 Jan 2025) EllapsedTime: 14.0 seconds RetCode: 0 Status: OK PackageFile: SNPediaR_1.33.0.tar.gz PackageFileSize: 254.8 KiB