Package: SNPediaR Version: 1.33.0 Command: /home/biocbuild/R/R/bin/R CMD check --install=check:SNPediaR.install-out.txt --library=/home/biocbuild/R/R/site-library --no-vignettes --timings SNPediaR_1.33.0.tar.gz StartedAt: 2025-01-28 15:29:21 -0000 (Tue, 28 Jan 2025) EndedAt: 2025-01-28 15:29:54 -0000 (Tue, 28 Jan 2025) EllapsedTime: 33.0 seconds RetCode: 0 Status: OK CheckDir: SNPediaR.Rcheck Warnings: 0