Package: SNPediaR Version: 1.33.0 Command: /Library/Frameworks/R.framework/Resources/bin/R CMD check --install=check:SNPediaR.install-out.txt --library=/Library/Frameworks/R.framework/Resources/library --no-vignettes --timings SNPediaR_1.33.0.tar.gz StartedAt: 2025-02-04 23:25:10 -0500 (Tue, 04 Feb 2025) EndedAt: 2025-02-04 23:25:43 -0500 (Tue, 04 Feb 2025) EllapsedTime: 33.3 seconds RetCode: 0 Status: OK CheckDir: SNPediaR.Rcheck Warnings: 0