Package: SPIA Version: 2.59.2 Command: /home/biocbuild/R/R/bin/R CMD check --install=check:SPIA.install-out.txt --library=/home/biocbuild/R/R/site-library --no-vignettes --timings SPIA_2.59.2.tar.gz StartedAt: 2025-01-28 15:39:57 -0000 (Tue, 28 Jan 2025) EndedAt: 2025-01-28 15:43:57 -0000 (Tue, 28 Jan 2025) EllapsedTime: 240.3 seconds RetCode: 0 Status: OK CheckDir: SPIA.Rcheck Warnings: 0