Package: SPIA Version: 2.59.2 Command: /home/biocbuild/bbs-3.21-bioc/R/bin/R CMD INSTALL SPIA StartedAt: 2025-02-09 15:31:44 -0500 (Sun, 09 Feb 2025) EndedAt: 2025-02-09 15:31:49 -0500 (Sun, 09 Feb 2025) EllapsedTime: 4.6 seconds RetCode: 0 Status: OK