Package: SPIA Version: 2.59.2 Command: chmod a+r SPIA -R && E:\biocbuild\bbs-3.21-bioc\R\bin\R.exe CMD build --keep-empty-dirs --no-resave-data SPIA StartedAt: 2025-02-12 21:58:24 -0500 (Wed, 12 Feb 2025) EndedAt: 2025-02-12 22:05:44 -0500 (Wed, 12 Feb 2025) EllapsedTime: 439.5 seconds RetCode: 0 Status: OK PackageFile: SPIA_2.59.2.tar.gz PackageFileSize: 2.45 MiB