Package: SPIA Version: 2.59.2 Command: E:\biocbuild\bbs-3.21-bioc\R\bin\R.exe CMD check --no-multiarch --install=check:SPIA.install-out.txt --library=E:\biocbuild\bbs-3.21-bioc\R\library --no-vignettes --timings SPIA_2.59.2.tar.gz StartedAt: 2025-02-10 05:46:17 -0500 (Mon, 10 Feb 2025) EndedAt: 2025-02-10 05:54:33 -0500 (Mon, 10 Feb 2025) EllapsedTime: 495.2 seconds RetCode: 0 Status: OK CheckDir: SPIA.Rcheck Warnings: 0