Package: SPLINTER Version: 1.33.0 Command: /Library/Frameworks/R.framework/Resources/bin/R CMD build --keep-empty-dirs --no-resave-data SPLINTER StartedAt: 2025-02-09 17:42:56 -0500 (Sun, 09 Feb 2025) EndedAt: 2025-02-09 17:43:37 -0500 (Sun, 09 Feb 2025) EllapsedTime: 41.5 seconds RetCode: 1 Status: ERROR PackageFile: None PackageFileSize: NA