Package: SPLINTER Version: 1.33.0 Command: /home/biocbuild/R/R/bin/R CMD build --keep-empty-dirs --no-resave-data SPLINTER StartedAt: 2025-01-28 02:41:52 -0000 (Tue, 28 Jan 2025) EndedAt: 2025-01-28 02:44:03 -0000 (Tue, 28 Jan 2025) EllapsedTime: 131.1 seconds RetCode: 1 Status: ERROR PackageFile: None PackageFileSize: NA