Package: SPLINTER Version: 1.33.0 Command: rm -rf SPLINTER.buildbin-libdir && mkdir SPLINTER.buildbin-libdir && /Users/biocbuild/BBS/utils/build-universal.sh SPLINTER_1.33.0.tar.gz /Library/Frameworks/R.framework/Resources/bin/R SPLINTER.buildbin-libdir StartedAt: 2025-02-04 00:58:41 -0500 (Tue, 04 Feb 2025) EndedAt: 2025-02-04 00:59:48 -0500 (Tue, 04 Feb 2025) EllapsedTime: 66.2 seconds RetCode: 0 Status: OK PackageFile: SPLINTER_1.33.0.tgz PackageFileSize: 1.083 MiB