Package: SPLINTER Version: 1.33.0 Command: /Library/Frameworks/R.framework/Resources/bin/R CMD build --keep-empty-dirs --no-resave-data SPLINTER StartedAt: 2025-02-03 18:31:23 -0500 (Mon, 03 Feb 2025) EndedAt: 2025-02-03 18:33:08 -0500 (Mon, 03 Feb 2025) EllapsedTime: 105.1 seconds RetCode: 0 Status: OK PackageFile: SPLINTER_1.33.0.tar.gz PackageFileSize: 961.4 KiB