Package: SPLINTER Version: 1.33.0 Command: /Library/Frameworks/R.framework/Resources/bin/R CMD check --install=check:SPLINTER.install-out.txt --library=/Library/Frameworks/R.framework/Resources/library --no-vignettes --timings SPLINTER_1.33.0.tar.gz StartedAt: 2025-02-03 23:34:48 -0500 (Mon, 03 Feb 2025) EndedAt: 2025-02-03 23:40:53 -0500 (Mon, 03 Feb 2025) EllapsedTime: 364.2 seconds RetCode: 0 Status: OK CheckDir: SPLINTER.Rcheck Warnings: 0