Package: SPLINTER Version: 1.33.0 Command: /Library/Frameworks/R.framework/Resources/bin/R CMD INSTALL SPLINTER StartedAt: 2025-02-03 15:33:58 -0500 (Mon, 03 Feb 2025) EndedAt: 2025-02-03 15:35:03 -0500 (Mon, 03 Feb 2025) EllapsedTime: 64.9 seconds RetCode: 0 Status: OK