Package: SPLINTER Version: 1.33.0 Command: /home/biocbuild/bbs-3.21-bioc/R/bin/R CMD check --install=check:SPLINTER.install-out.txt --library=/home/biocbuild/bbs-3.21-bioc/R/site-library --timings SPLINTER_1.33.0.tar.gz StartedAt: 2025-02-04 03:07:40 -0500 (Tue, 04 Feb 2025) EndedAt: 2025-02-04 03:14:04 -0500 (Tue, 04 Feb 2025) EllapsedTime: 384.5 seconds RetCode: 0 Status: OK CheckDir: SPLINTER.Rcheck Warnings: 0