Package: SPLINTER Version: 1.33.0 Command: /home/biocbuild/bbs-3.21-bioc/R/bin/R CMD INSTALL SPLINTER StartedAt: 2025-02-03 15:58:05 -0500 (Mon, 03 Feb 2025) EndedAt: 2025-02-03 15:58:52 -0500 (Mon, 03 Feb 2025) EllapsedTime: 47.4 seconds RetCode: 0 Status: OK