Package: SPLINTER Version: 1.33.0 Command: chmod a+r SPLINTER -R && E:\biocbuild\bbs-3.21-bioc\R\bin\R.exe CMD build --keep-empty-dirs --no-resave-data SPLINTER StartedAt: 2025-02-09 21:52:44 -0500 (Sun, 09 Feb 2025) EndedAt: 2025-02-09 21:55:12 -0500 (Sun, 09 Feb 2025) EllapsedTime: 148.0 seconds RetCode: 0 Status: OK PackageFile: SPLINTER_1.33.0.tar.gz PackageFileSize: 961.7 KiB