Package: SPLINTER Version: 1.33.0 Command: E:\biocbuild\bbs-3.21-bioc\R\bin\R.exe CMD check --no-multiarch --install=check:SPLINTER.install-out.txt --library=E:\biocbuild\bbs-3.21-bioc\R\library --no-vignettes --timings SPLINTER_1.33.0.tar.gz StartedAt: 2025-02-10 05:49:06 -0500 (Mon, 10 Feb 2025) EndedAt: 2025-02-10 05:55:55 -0500 (Mon, 10 Feb 2025) EllapsedTime: 408.5 seconds RetCode: 0 Status: WARNINGS CheckDir: SPLINTER.Rcheck Warnings: 1