Package: SPONGE Version: 1.29.0 Command: rm -rf SPONGE.buildbin-libdir && mkdir SPONGE.buildbin-libdir && /Users/biocbuild/BBS/utils/build-universal.sh SPONGE_1.29.0.tar.gz /Library/Frameworks/R.framework/Resources/bin/R SPONGE.buildbin-libdir StartedAt: 2025-02-10 01:18:44 -0500 (Mon, 10 Feb 2025) EndedAt: 2025-02-10 01:20:18 -0500 (Mon, 10 Feb 2025) EllapsedTime: 93.7 seconds RetCode: 0 Status: OK PackageFile: SPONGE_1.29.0.tgz PackageFileSize: 8.732 MiB