Package: SPONGE Version: 1.29.0 Command: /Library/Frameworks/R.framework/Resources/bin/R CMD check --install=check:SPONGE.install-out.txt --library=/Library/Frameworks/R.framework/Resources/library --no-vignettes --timings SPONGE_1.29.0.tar.gz StartedAt: 2025-02-09 23:52:26 -0500 (Sun, 09 Feb 2025) EndedAt: 2025-02-09 23:58:40 -0500 (Sun, 09 Feb 2025) EllapsedTime: 374.4 seconds RetCode: 0 Status: WARNINGS CheckDir: SPONGE.Rcheck Warnings: 5