Package: SPONGE Version: 1.29.0 Command: /home/biocbuild/bbs-3.21-bioc/R/bin/R CMD INSTALL SPONGE StartedAt: 2025-02-12 15:31:07 -0500 (Wed, 12 Feb 2025) EndedAt: 2025-02-12 15:32:23 -0500 (Wed, 12 Feb 2025) EllapsedTime: 75.6 seconds RetCode: 0 Status: OK