Package: SPOTlight Version: 1.11.0 Maintainer: Marc Elosua-Bayes MaintainerEmail: elosua.marc at gmail.com git_url: https://git.bioconductor.org/packages/SPOTlight git_branch: devel git_last_commit: eae1ff5 git_last_commit_date: 2024-10-29 11:10:34 -0500 (Tue, 29 Oct 2024)