Package: SPOTlight Version: 1.11.0 Command: rm -rf SPOTlight.buildbin-libdir && mkdir SPOTlight.buildbin-libdir && /Users/biocbuild/BBS/utils/build-universal.sh SPOTlight_1.11.0.tar.gz /Library/Frameworks/R.framework/Resources/bin/R SPOTlight.buildbin-libdir StartedAt: 2025-02-05 01:04:33 -0500 (Wed, 05 Feb 2025) EndedAt: 2025-02-05 01:05:12 -0500 (Wed, 05 Feb 2025) EllapsedTime: 39.4 seconds RetCode: 0 Status: OK PackageFile: SPOTlight_1.11.0.tgz PackageFileSize: 4.232 MiB